BEGIN:VCALENDAR
VERSION:2.0
PRODID:-//Epic Trivia - ECPv6.15.18//NONSGML v1.0//EN
CALSCALE:GREGORIAN
METHOD:PUBLISH
X-WR-CALNAME:Epic Trivia
X-ORIGINAL-URL:https://epictriviafl.com
X-WR-CALDESC:Events for Epic Trivia
REFRESH-INTERVAL;VALUE=DURATION:PT1H
X-Robots-Tag:noindex
X-PUBLISHED-TTL:PT1H
BEGIN:VTIMEZONE
TZID:America/New_York
BEGIN:DAYLIGHT
TZOFFSETFROM:-0500
TZOFFSETTO:-0400
TZNAME:EDT
DTSTART:20250309T070000
END:DAYLIGHT
BEGIN:STANDARD
TZOFFSETFROM:-0400
TZOFFSETTO:-0500
TZNAME:EST
DTSTART:20251102T060000
END:STANDARD
BEGIN:DAYLIGHT
TZOFFSETFROM:-0500
TZOFFSETTO:-0400
TZNAME:EDT
DTSTART:20260308T070000
END:DAYLIGHT
BEGIN:STANDARD
TZOFFSETFROM:-0400
TZOFFSETTO:-0500
TZNAME:EST
DTSTART:20261101T060000
END:STANDARD
BEGIN:DAYLIGHT
TZOFFSETFROM:-0500
TZOFFSETTO:-0400
TZNAME:EDT
DTSTART:20270314T070000
END:DAYLIGHT
BEGIN:STANDARD
TZOFFSETFROM:-0400
TZOFFSETTO:-0500
TZNAME:EST
DTSTART:20271107T060000
END:STANDARD
END:VTIMEZONE
BEGIN:VEVENT
DTSTART;TZID=America/New_York:20260421T190000
DTEND;TZID=America/New_York:20260421T190000
DTSTAMP:20260419T142733
CREATED:20260105T003103Z
LAST-MODIFIED:20260105T055137Z
UID:10016138-1776798000-1776798000@epictriviafl.com
SUMMARY:Trivia
DESCRIPTION:
URL:https://epictriviafl.com/event/trivia-hurricane-longwood/2026-04-21/
LOCATION:Hurricane Grill & Wings\, 2401 W State Rd 434\, Longwood\, FL 32779 USA
GEO:28.6883313;-81.4046306
X-APPLE-STRUCTURED-LOCATION;VALUE=URI;X-ADDRESS=Hurricane Grill & Wings 2401 W State Rd 434 Longwood FL 32779 USA;X-APPLE-RADIUS=500;X-TITLE=2401 W State Rd 434\, Longwood\, FL 32779 USA:geo:-81.4046306,28.6883313
END:VEVENT
BEGIN:VEVENT
DTSTART;TZID=America/New_York:20260428T190000
DTEND;TZID=America/New_York:20260428T190000
DTSTAMP:20260419T142733
CREATED:20260105T003103Z
LAST-MODIFIED:20260105T055137Z
UID:10016139-1777402800-1777402800@epictriviafl.com
SUMMARY:Trivia
DESCRIPTION:
URL:https://epictriviafl.com/event/trivia-hurricane-longwood/2026-04-28/
LOCATION:Hurricane Grill & Wings\, 2401 W State Rd 434\, Longwood\, FL 32779 USA
GEO:28.6883313;-81.4046306
X-APPLE-STRUCTURED-LOCATION;VALUE=URI;X-ADDRESS=Hurricane Grill & Wings 2401 W State Rd 434 Longwood FL 32779 USA;X-APPLE-RADIUS=500;X-TITLE=2401 W State Rd 434\, Longwood\, FL 32779 USA:geo:-81.4046306,28.6883313
END:VEVENT
BEGIN:VEVENT
DTSTART;TZID=America/New_York:20260505T190000
DTEND;TZID=America/New_York:20260505T190000
DTSTAMP:20260419T142733
CREATED:20260105T003103Z
LAST-MODIFIED:20260105T055137Z
UID:10016140-1778007600-1778007600@epictriviafl.com
SUMMARY:Trivia
DESCRIPTION:
URL:https://epictriviafl.com/event/trivia-hurricane-longwood/2026-05-05/
LOCATION:Hurricane Grill & Wings\, 2401 W State Rd 434\, Longwood\, FL 32779 USA
GEO:28.6883313;-81.4046306
X-APPLE-STRUCTURED-LOCATION;VALUE=URI;X-ADDRESS=Hurricane Grill & Wings 2401 W State Rd 434 Longwood FL 32779 USA;X-APPLE-RADIUS=500;X-TITLE=2401 W State Rd 434\, Longwood\, FL 32779 USA:geo:-81.4046306,28.6883313
END:VEVENT
BEGIN:VEVENT
DTSTART;TZID=America/New_York:20260512T190000
DTEND;TZID=America/New_York:20260512T190000
DTSTAMP:20260419T142733
CREATED:20260105T003103Z
LAST-MODIFIED:20260105T055137Z
UID:10016141-1778612400-1778612400@epictriviafl.com
SUMMARY:Trivia
DESCRIPTION:
URL:https://epictriviafl.com/event/trivia-hurricane-longwood/2026-05-12/
LOCATION:Hurricane Grill & Wings\, 2401 W State Rd 434\, Longwood\, FL 32779 USA
GEO:28.6883313;-81.4046306
X-APPLE-STRUCTURED-LOCATION;VALUE=URI;X-ADDRESS=Hurricane Grill & Wings 2401 W State Rd 434 Longwood FL 32779 USA;X-APPLE-RADIUS=500;X-TITLE=2401 W State Rd 434\, Longwood\, FL 32779 USA:geo:-81.4046306,28.6883313
END:VEVENT
BEGIN:VEVENT
DTSTART;TZID=America/New_York:20260519T190000
DTEND;TZID=America/New_York:20260519T190000
DTSTAMP:20260419T142733
CREATED:20260105T003103Z
LAST-MODIFIED:20260105T055137Z
UID:10016142-1779217200-1779217200@epictriviafl.com
SUMMARY:Trivia
DESCRIPTION:
URL:https://epictriviafl.com/event/trivia-hurricane-longwood/2026-05-19/
LOCATION:Hurricane Grill & Wings\, 2401 W State Rd 434\, Longwood\, FL 32779 USA
GEO:28.6883313;-81.4046306
X-APPLE-STRUCTURED-LOCATION;VALUE=URI;X-ADDRESS=Hurricane Grill & Wings 2401 W State Rd 434 Longwood FL 32779 USA;X-APPLE-RADIUS=500;X-TITLE=2401 W State Rd 434\, Longwood\, FL 32779 USA:geo:-81.4046306,28.6883313
END:VEVENT
BEGIN:VEVENT
DTSTART;TZID=America/New_York:20260526T190000
DTEND;TZID=America/New_York:20260526T190000
DTSTAMP:20260419T142733
CREATED:20260105T003103Z
LAST-MODIFIED:20260105T055137Z
UID:10016143-1779822000-1779822000@epictriviafl.com
SUMMARY:Trivia
DESCRIPTION:
URL:https://epictriviafl.com/event/trivia-hurricane-longwood/2026-05-26/
LOCATION:Hurricane Grill & Wings\, 2401 W State Rd 434\, Longwood\, FL 32779 USA
GEO:28.6883313;-81.4046306
X-APPLE-STRUCTURED-LOCATION;VALUE=URI;X-ADDRESS=Hurricane Grill & Wings 2401 W State Rd 434 Longwood FL 32779 USA;X-APPLE-RADIUS=500;X-TITLE=2401 W State Rd 434\, Longwood\, FL 32779 USA:geo:-81.4046306,28.6883313
END:VEVENT
BEGIN:VEVENT
DTSTART;TZID=America/New_York:20260602T190000
DTEND;TZID=America/New_York:20260602T190000
DTSTAMP:20260419T142733
CREATED:20260105T003103Z
LAST-MODIFIED:20260105T055137Z
UID:10016144-1780426800-1780426800@epictriviafl.com
SUMMARY:Trivia
DESCRIPTION:
URL:https://epictriviafl.com/event/trivia-hurricane-longwood/2026-06-02/
LOCATION:Hurricane Grill & Wings\, 2401 W State Rd 434\, Longwood\, FL 32779 USA
GEO:28.6883313;-81.4046306
X-APPLE-STRUCTURED-LOCATION;VALUE=URI;X-ADDRESS=Hurricane Grill & Wings 2401 W State Rd 434 Longwood FL 32779 USA;X-APPLE-RADIUS=500;X-TITLE=2401 W State Rd 434\, Longwood\, FL 32779 USA:geo:-81.4046306,28.6883313
END:VEVENT
BEGIN:VEVENT
DTSTART;TZID=America/New_York:20260609T190000
DTEND;TZID=America/New_York:20260609T190000
DTSTAMP:20260419T142733
CREATED:20260105T003103Z
LAST-MODIFIED:20260105T055137Z
UID:10016145-1781031600-1781031600@epictriviafl.com
SUMMARY:Trivia
DESCRIPTION:
URL:https://epictriviafl.com/event/trivia-hurricane-longwood/2026-06-09/
LOCATION:Hurricane Grill & Wings\, 2401 W State Rd 434\, Longwood\, FL 32779 USA
GEO:28.6883313;-81.4046306
X-APPLE-STRUCTURED-LOCATION;VALUE=URI;X-ADDRESS=Hurricane Grill & Wings 2401 W State Rd 434 Longwood FL 32779 USA;X-APPLE-RADIUS=500;X-TITLE=2401 W State Rd 434\, Longwood\, FL 32779 USA:geo:-81.4046306,28.6883313
END:VEVENT
BEGIN:VEVENT
DTSTART;TZID=America/New_York:20260616T190000
DTEND;TZID=America/New_York:20260616T190000
DTSTAMP:20260419T142733
CREATED:20260105T003103Z
LAST-MODIFIED:20260105T055137Z
UID:10016146-1781636400-1781636400@epictriviafl.com
SUMMARY:Trivia
DESCRIPTION:
URL:https://epictriviafl.com/event/trivia-hurricane-longwood/2026-06-16/
LOCATION:Hurricane Grill & Wings\, 2401 W State Rd 434\, Longwood\, FL 32779 USA
GEO:28.6883313;-81.4046306
X-APPLE-STRUCTURED-LOCATION;VALUE=URI;X-ADDRESS=Hurricane Grill & Wings 2401 W State Rd 434 Longwood FL 32779 USA;X-APPLE-RADIUS=500;X-TITLE=2401 W State Rd 434\, Longwood\, FL 32779 USA:geo:-81.4046306,28.6883313
END:VEVENT
BEGIN:VEVENT
DTSTART;TZID=America/New_York:20260623T190000
DTEND;TZID=America/New_York:20260623T190000
DTSTAMP:20260419T142733
CREATED:20260105T003103Z
LAST-MODIFIED:20260105T055137Z
UID:10016147-1782241200-1782241200@epictriviafl.com
SUMMARY:Trivia
DESCRIPTION:
URL:https://epictriviafl.com/event/trivia-hurricane-longwood/2026-06-23/
LOCATION:Hurricane Grill & Wings\, 2401 W State Rd 434\, Longwood\, FL 32779 USA
GEO:28.6883313;-81.4046306
X-APPLE-STRUCTURED-LOCATION;VALUE=URI;X-ADDRESS=Hurricane Grill & Wings 2401 W State Rd 434 Longwood FL 32779 USA;X-APPLE-RADIUS=500;X-TITLE=2401 W State Rd 434\, Longwood\, FL 32779 USA:geo:-81.4046306,28.6883313
END:VEVENT
BEGIN:VEVENT
DTSTART;TZID=America/New_York:20260630T190000
DTEND;TZID=America/New_York:20260630T190000
DTSTAMP:20260419T142733
CREATED:20260105T003103Z
LAST-MODIFIED:20260105T055137Z
UID:10016148-1782846000-1782846000@epictriviafl.com
SUMMARY:Trivia
DESCRIPTION:
URL:https://epictriviafl.com/event/trivia-hurricane-longwood/2026-06-30/
LOCATION:Hurricane Grill & Wings\, 2401 W State Rd 434\, Longwood\, FL 32779 USA
GEO:28.6883313;-81.4046306
X-APPLE-STRUCTURED-LOCATION;VALUE=URI;X-ADDRESS=Hurricane Grill & Wings 2401 W State Rd 434 Longwood FL 32779 USA;X-APPLE-RADIUS=500;X-TITLE=2401 W State Rd 434\, Longwood\, FL 32779 USA:geo:-81.4046306,28.6883313
END:VEVENT
BEGIN:VEVENT
DTSTART;TZID=America/New_York:20260707T190000
DTEND;TZID=America/New_York:20260707T190000
DTSTAMP:20260419T142733
CREATED:20260105T003103Z
LAST-MODIFIED:20260105T055137Z
UID:10016149-1783450800-1783450800@epictriviafl.com
SUMMARY:Trivia
DESCRIPTION:
URL:https://epictriviafl.com/event/trivia-hurricane-longwood/2026-07-07/
LOCATION:Hurricane Grill & Wings\, 2401 W State Rd 434\, Longwood\, FL 32779 USA
GEO:28.6883313;-81.4046306
X-APPLE-STRUCTURED-LOCATION;VALUE=URI;X-ADDRESS=Hurricane Grill & Wings 2401 W State Rd 434 Longwood FL 32779 USA;X-APPLE-RADIUS=500;X-TITLE=2401 W State Rd 434\, Longwood\, FL 32779 USA:geo:-81.4046306,28.6883313
END:VEVENT
BEGIN:VEVENT
DTSTART;TZID=America/New_York:20260714T190000
DTEND;TZID=America/New_York:20260714T190000
DTSTAMP:20260419T142733
CREATED:20260105T003103Z
LAST-MODIFIED:20260105T055137Z
UID:10016150-1784055600-1784055600@epictriviafl.com
SUMMARY:Trivia
DESCRIPTION:
URL:https://epictriviafl.com/event/trivia-hurricane-longwood/2026-07-14/
LOCATION:Hurricane Grill & Wings\, 2401 W State Rd 434\, Longwood\, FL 32779 USA
GEO:28.6883313;-81.4046306
X-APPLE-STRUCTURED-LOCATION;VALUE=URI;X-ADDRESS=Hurricane Grill & Wings 2401 W State Rd 434 Longwood FL 32779 USA;X-APPLE-RADIUS=500;X-TITLE=2401 W State Rd 434\, Longwood\, FL 32779 USA:geo:-81.4046306,28.6883313
END:VEVENT
BEGIN:VEVENT
DTSTART;TZID=America/New_York:20260721T190000
DTEND;TZID=America/New_York:20260721T190000
DTSTAMP:20260419T142733
CREATED:20260105T003103Z
LAST-MODIFIED:20260105T055137Z
UID:10016151-1784660400-1784660400@epictriviafl.com
SUMMARY:Trivia
DESCRIPTION:
URL:https://epictriviafl.com/event/trivia-hurricane-longwood/2026-07-21/
LOCATION:Hurricane Grill & Wings\, 2401 W State Rd 434\, Longwood\, FL 32779 USA
GEO:28.6883313;-81.4046306
X-APPLE-STRUCTURED-LOCATION;VALUE=URI;X-ADDRESS=Hurricane Grill & Wings 2401 W State Rd 434 Longwood FL 32779 USA;X-APPLE-RADIUS=500;X-TITLE=2401 W State Rd 434\, Longwood\, FL 32779 USA:geo:-81.4046306,28.6883313
END:VEVENT
BEGIN:VEVENT
DTSTART;TZID=America/New_York:20260728T190000
DTEND;TZID=America/New_York:20260728T190000
DTSTAMP:20260419T142733
CREATED:20260105T003103Z
LAST-MODIFIED:20260105T055137Z
UID:10016152-1785265200-1785265200@epictriviafl.com
SUMMARY:Trivia
DESCRIPTION:
URL:https://epictriviafl.com/event/trivia-hurricane-longwood/2026-07-28/
LOCATION:Hurricane Grill & Wings\, 2401 W State Rd 434\, Longwood\, FL 32779 USA
GEO:28.6883313;-81.4046306
X-APPLE-STRUCTURED-LOCATION;VALUE=URI;X-ADDRESS=Hurricane Grill & Wings 2401 W State Rd 434 Longwood FL 32779 USA;X-APPLE-RADIUS=500;X-TITLE=2401 W State Rd 434\, Longwood\, FL 32779 USA:geo:-81.4046306,28.6883313
END:VEVENT
BEGIN:VEVENT
DTSTART;TZID=America/New_York:20260804T190000
DTEND;TZID=America/New_York:20260804T190000
DTSTAMP:20260419T142733
CREATED:20260105T003103Z
LAST-MODIFIED:20260105T055137Z
UID:10016153-1785870000-1785870000@epictriviafl.com
SUMMARY:Trivia
DESCRIPTION:
URL:https://epictriviafl.com/event/trivia-hurricane-longwood/2026-08-04/
LOCATION:Hurricane Grill & Wings\, 2401 W State Rd 434\, Longwood\, FL 32779 USA
GEO:28.6883313;-81.4046306
X-APPLE-STRUCTURED-LOCATION;VALUE=URI;X-ADDRESS=Hurricane Grill & Wings 2401 W State Rd 434 Longwood FL 32779 USA;X-APPLE-RADIUS=500;X-TITLE=2401 W State Rd 434\, Longwood\, FL 32779 USA:geo:-81.4046306,28.6883313
END:VEVENT
BEGIN:VEVENT
DTSTART;TZID=America/New_York:20260811T190000
DTEND;TZID=America/New_York:20260811T190000
DTSTAMP:20260419T142733
CREATED:20260105T003103Z
LAST-MODIFIED:20260105T055137Z
UID:10016154-1786474800-1786474800@epictriviafl.com
SUMMARY:Trivia
DESCRIPTION:
URL:https://epictriviafl.com/event/trivia-hurricane-longwood/2026-08-11/
LOCATION:Hurricane Grill & Wings\, 2401 W State Rd 434\, Longwood\, FL 32779 USA
GEO:28.6883313;-81.4046306
X-APPLE-STRUCTURED-LOCATION;VALUE=URI;X-ADDRESS=Hurricane Grill & Wings 2401 W State Rd 434 Longwood FL 32779 USA;X-APPLE-RADIUS=500;X-TITLE=2401 W State Rd 434\, Longwood\, FL 32779 USA:geo:-81.4046306,28.6883313
END:VEVENT
BEGIN:VEVENT
DTSTART;TZID=America/New_York:20260818T190000
DTEND;TZID=America/New_York:20260818T190000
DTSTAMP:20260419T142733
CREATED:20260105T003103Z
LAST-MODIFIED:20260105T055137Z
UID:10016155-1787079600-1787079600@epictriviafl.com
SUMMARY:Trivia
DESCRIPTION:
URL:https://epictriviafl.com/event/trivia-hurricane-longwood/2026-08-18/
LOCATION:Hurricane Grill & Wings\, 2401 W State Rd 434\, Longwood\, FL 32779 USA
GEO:28.6883313;-81.4046306
X-APPLE-STRUCTURED-LOCATION;VALUE=URI;X-ADDRESS=Hurricane Grill & Wings 2401 W State Rd 434 Longwood FL 32779 USA;X-APPLE-RADIUS=500;X-TITLE=2401 W State Rd 434\, Longwood\, FL 32779 USA:geo:-81.4046306,28.6883313
END:VEVENT
BEGIN:VEVENT
DTSTART;TZID=America/New_York:20260825T190000
DTEND;TZID=America/New_York:20260825T190000
DTSTAMP:20260419T142733
CREATED:20260105T003103Z
LAST-MODIFIED:20260105T055137Z
UID:10016156-1787684400-1787684400@epictriviafl.com
SUMMARY:Trivia
DESCRIPTION:
URL:https://epictriviafl.com/event/trivia-hurricane-longwood/2026-08-25/
LOCATION:Hurricane Grill & Wings\, 2401 W State Rd 434\, Longwood\, FL 32779 USA
GEO:28.6883313;-81.4046306
X-APPLE-STRUCTURED-LOCATION;VALUE=URI;X-ADDRESS=Hurricane Grill & Wings 2401 W State Rd 434 Longwood FL 32779 USA;X-APPLE-RADIUS=500;X-TITLE=2401 W State Rd 434\, Longwood\, FL 32779 USA:geo:-81.4046306,28.6883313
END:VEVENT
BEGIN:VEVENT
DTSTART;TZID=America/New_York:20260901T190000
DTEND;TZID=America/New_York:20260901T190000
DTSTAMP:20260419T142734
CREATED:20260105T003103Z
LAST-MODIFIED:20260105T055137Z
UID:10016157-1788289200-1788289200@epictriviafl.com
SUMMARY:Trivia
DESCRIPTION:
URL:https://epictriviafl.com/event/trivia-hurricane-longwood/2026-09-01/
LOCATION:Hurricane Grill & Wings\, 2401 W State Rd 434\, Longwood\, FL 32779 USA
GEO:28.6883313;-81.4046306
X-APPLE-STRUCTURED-LOCATION;VALUE=URI;X-ADDRESS=Hurricane Grill & Wings 2401 W State Rd 434 Longwood FL 32779 USA;X-APPLE-RADIUS=500;X-TITLE=2401 W State Rd 434\, Longwood\, FL 32779 USA:geo:-81.4046306,28.6883313
END:VEVENT
BEGIN:VEVENT
DTSTART;TZID=America/New_York:20260908T190000
DTEND;TZID=America/New_York:20260908T190000
DTSTAMP:20260419T142734
CREATED:20260105T003103Z
LAST-MODIFIED:20260105T055137Z
UID:10016158-1788894000-1788894000@epictriviafl.com
SUMMARY:Trivia
DESCRIPTION:
URL:https://epictriviafl.com/event/trivia-hurricane-longwood/2026-09-08/
LOCATION:Hurricane Grill & Wings\, 2401 W State Rd 434\, Longwood\, FL 32779 USA
GEO:28.6883313;-81.4046306
X-APPLE-STRUCTURED-LOCATION;VALUE=URI;X-ADDRESS=Hurricane Grill & Wings 2401 W State Rd 434 Longwood FL 32779 USA;X-APPLE-RADIUS=500;X-TITLE=2401 W State Rd 434\, Longwood\, FL 32779 USA:geo:-81.4046306,28.6883313
END:VEVENT
BEGIN:VEVENT
DTSTART;TZID=America/New_York:20260915T190000
DTEND;TZID=America/New_York:20260915T190000
DTSTAMP:20260419T142734
CREATED:20260105T003103Z
LAST-MODIFIED:20260105T055137Z
UID:10016159-1789498800-1789498800@epictriviafl.com
SUMMARY:Trivia
DESCRIPTION:
URL:https://epictriviafl.com/event/trivia-hurricane-longwood/2026-09-15/
LOCATION:Hurricane Grill & Wings\, 2401 W State Rd 434\, Longwood\, FL 32779 USA
GEO:28.6883313;-81.4046306
X-APPLE-STRUCTURED-LOCATION;VALUE=URI;X-ADDRESS=Hurricane Grill & Wings 2401 W State Rd 434 Longwood FL 32779 USA;X-APPLE-RADIUS=500;X-TITLE=2401 W State Rd 434\, Longwood\, FL 32779 USA:geo:-81.4046306,28.6883313
END:VEVENT
BEGIN:VEVENT
DTSTART;TZID=America/New_York:20260922T190000
DTEND;TZID=America/New_York:20260922T190000
DTSTAMP:20260419T142734
CREATED:20260105T003103Z
LAST-MODIFIED:20260105T055137Z
UID:10016160-1790103600-1790103600@epictriviafl.com
SUMMARY:Trivia
DESCRIPTION:
URL:https://epictriviafl.com/event/trivia-hurricane-longwood/2026-09-22/
LOCATION:Hurricane Grill & Wings\, 2401 W State Rd 434\, Longwood\, FL 32779 USA
GEO:28.6883313;-81.4046306
X-APPLE-STRUCTURED-LOCATION;VALUE=URI;X-ADDRESS=Hurricane Grill & Wings 2401 W State Rd 434 Longwood FL 32779 USA;X-APPLE-RADIUS=500;X-TITLE=2401 W State Rd 434\, Longwood\, FL 32779 USA:geo:-81.4046306,28.6883313
END:VEVENT
BEGIN:VEVENT
DTSTART;TZID=America/New_York:20260929T190000
DTEND;TZID=America/New_York:20260929T190000
DTSTAMP:20260419T142734
CREATED:20260105T003103Z
LAST-MODIFIED:20260105T055137Z
UID:10016161-1790708400-1790708400@epictriviafl.com
SUMMARY:Trivia
DESCRIPTION:
URL:https://epictriviafl.com/event/trivia-hurricane-longwood/2026-09-29/
LOCATION:Hurricane Grill & Wings\, 2401 W State Rd 434\, Longwood\, FL 32779 USA
GEO:28.6883313;-81.4046306
X-APPLE-STRUCTURED-LOCATION;VALUE=URI;X-ADDRESS=Hurricane Grill & Wings 2401 W State Rd 434 Longwood FL 32779 USA;X-APPLE-RADIUS=500;X-TITLE=2401 W State Rd 434\, Longwood\, FL 32779 USA:geo:-81.4046306,28.6883313
END:VEVENT
BEGIN:VEVENT
DTSTART;TZID=America/New_York:20261006T190000
DTEND;TZID=America/New_York:20261006T190000
DTSTAMP:20260419T142734
CREATED:20260105T003103Z
LAST-MODIFIED:20260105T055137Z
UID:10016162-1791313200-1791313200@epictriviafl.com
SUMMARY:Trivia
DESCRIPTION:
URL:https://epictriviafl.com/event/trivia-hurricane-longwood/2026-10-06/
LOCATION:Hurricane Grill & Wings\, 2401 W State Rd 434\, Longwood\, FL 32779 USA
GEO:28.6883313;-81.4046306
X-APPLE-STRUCTURED-LOCATION;VALUE=URI;X-ADDRESS=Hurricane Grill & Wings 2401 W State Rd 434 Longwood FL 32779 USA;X-APPLE-RADIUS=500;X-TITLE=2401 W State Rd 434\, Longwood\, FL 32779 USA:geo:-81.4046306,28.6883313
END:VEVENT
BEGIN:VEVENT
DTSTART;TZID=America/New_York:20261013T190000
DTEND;TZID=America/New_York:20261013T190000
DTSTAMP:20260419T142734
CREATED:20260105T003103Z
LAST-MODIFIED:20260105T055137Z
UID:10016163-1791918000-1791918000@epictriviafl.com
SUMMARY:Trivia
DESCRIPTION:
URL:https://epictriviafl.com/event/trivia-hurricane-longwood/2026-10-13/
LOCATION:Hurricane Grill & Wings\, 2401 W State Rd 434\, Longwood\, FL 32779 USA
GEO:28.6883313;-81.4046306
X-APPLE-STRUCTURED-LOCATION;VALUE=URI;X-ADDRESS=Hurricane Grill & Wings 2401 W State Rd 434 Longwood FL 32779 USA;X-APPLE-RADIUS=500;X-TITLE=2401 W State Rd 434\, Longwood\, FL 32779 USA:geo:-81.4046306,28.6883313
END:VEVENT
BEGIN:VEVENT
DTSTART;TZID=America/New_York:20261020T190000
DTEND;TZID=America/New_York:20261020T190000
DTSTAMP:20260419T142734
CREATED:20260105T003103Z
LAST-MODIFIED:20260105T055137Z
UID:10016164-1792522800-1792522800@epictriviafl.com
SUMMARY:Trivia
DESCRIPTION:
URL:https://epictriviafl.com/event/trivia-hurricane-longwood/2026-10-20/
LOCATION:Hurricane Grill & Wings\, 2401 W State Rd 434\, Longwood\, FL 32779 USA
GEO:28.6883313;-81.4046306
X-APPLE-STRUCTURED-LOCATION;VALUE=URI;X-ADDRESS=Hurricane Grill & Wings 2401 W State Rd 434 Longwood FL 32779 USA;X-APPLE-RADIUS=500;X-TITLE=2401 W State Rd 434\, Longwood\, FL 32779 USA:geo:-81.4046306,28.6883313
END:VEVENT
BEGIN:VEVENT
DTSTART;TZID=America/New_York:20261027T190000
DTEND;TZID=America/New_York:20261027T190000
DTSTAMP:20260419T142734
CREATED:20260105T003103Z
LAST-MODIFIED:20260105T055137Z
UID:10016165-1793127600-1793127600@epictriviafl.com
SUMMARY:Trivia
DESCRIPTION:
URL:https://epictriviafl.com/event/trivia-hurricane-longwood/2026-10-27/
LOCATION:Hurricane Grill & Wings\, 2401 W State Rd 434\, Longwood\, FL 32779 USA
GEO:28.6883313;-81.4046306
X-APPLE-STRUCTURED-LOCATION;VALUE=URI;X-ADDRESS=Hurricane Grill & Wings 2401 W State Rd 434 Longwood FL 32779 USA;X-APPLE-RADIUS=500;X-TITLE=2401 W State Rd 434\, Longwood\, FL 32779 USA:geo:-81.4046306,28.6883313
END:VEVENT
BEGIN:VEVENT
DTSTART;TZID=America/New_York:20261103T190000
DTEND;TZID=America/New_York:20261103T190000
DTSTAMP:20260419T142734
CREATED:20260105T003103Z
LAST-MODIFIED:20260105T055137Z
UID:10016166-1793732400-1793732400@epictriviafl.com
SUMMARY:Trivia
DESCRIPTION:
URL:https://epictriviafl.com/event/trivia-hurricane-longwood/2026-11-03/
LOCATION:Hurricane Grill & Wings\, 2401 W State Rd 434\, Longwood\, FL 32779 USA
GEO:28.6883313;-81.4046306
X-APPLE-STRUCTURED-LOCATION;VALUE=URI;X-ADDRESS=Hurricane Grill & Wings 2401 W State Rd 434 Longwood FL 32779 USA;X-APPLE-RADIUS=500;X-TITLE=2401 W State Rd 434\, Longwood\, FL 32779 USA:geo:-81.4046306,28.6883313
END:VEVENT
BEGIN:VEVENT
DTSTART;TZID=America/New_York:20261110T190000
DTEND;TZID=America/New_York:20261110T190000
DTSTAMP:20260419T142734
CREATED:20260105T003103Z
LAST-MODIFIED:20260105T055137Z
UID:10016167-1794337200-1794337200@epictriviafl.com
SUMMARY:Trivia
DESCRIPTION:
URL:https://epictriviafl.com/event/trivia-hurricane-longwood/2026-11-10/
LOCATION:Hurricane Grill & Wings\, 2401 W State Rd 434\, Longwood\, FL 32779 USA
GEO:28.6883313;-81.4046306
X-APPLE-STRUCTURED-LOCATION;VALUE=URI;X-ADDRESS=Hurricane Grill & Wings 2401 W State Rd 434 Longwood FL 32779 USA;X-APPLE-RADIUS=500;X-TITLE=2401 W State Rd 434\, Longwood\, FL 32779 USA:geo:-81.4046306,28.6883313
END:VEVENT
END:VCALENDAR