BEGIN:VCALENDAR
VERSION:2.0
PRODID:-//Epic Trivia - ECPv6.15.18//NONSGML v1.0//EN
CALSCALE:GREGORIAN
METHOD:PUBLISH
X-WR-CALNAME:Epic Trivia
X-ORIGINAL-URL:https://epictriviafl.com
X-WR-CALDESC:Events for Epic Trivia
REFRESH-INTERVAL;VALUE=DURATION:PT1H
X-Robots-Tag:noindex
X-PUBLISHED-TTL:PT1H
BEGIN:VTIMEZONE
TZID:America/New_York
BEGIN:DAYLIGHT
TZOFFSETFROM:-0500
TZOFFSETTO:-0400
TZNAME:EDT
DTSTART:20250309T070000
END:DAYLIGHT
BEGIN:STANDARD
TZOFFSETFROM:-0400
TZOFFSETTO:-0500
TZNAME:EST
DTSTART:20251102T060000
END:STANDARD
BEGIN:DAYLIGHT
TZOFFSETFROM:-0500
TZOFFSETTO:-0400
TZNAME:EDT
DTSTART:20260308T070000
END:DAYLIGHT
BEGIN:STANDARD
TZOFFSETFROM:-0400
TZOFFSETTO:-0500
TZNAME:EST
DTSTART:20261101T060000
END:STANDARD
BEGIN:DAYLIGHT
TZOFFSETFROM:-0500
TZOFFSETTO:-0400
TZNAME:EDT
DTSTART:20270314T070000
END:DAYLIGHT
BEGIN:STANDARD
TZOFFSETFROM:-0400
TZOFFSETTO:-0500
TZNAME:EST
DTSTART:20271107T060000
END:STANDARD
END:VTIMEZONE
BEGIN:VEVENT
DTSTART;TZID=America/New_York:20260423T190000
DTEND;TZID=America/New_York:20260423T190000
DTSTAMP:20260419T141551
CREATED:20260105T003147Z
LAST-MODIFIED:20260105T054205Z
UID:10011978-1776970800-1776970800@epictriviafl.com
SUMMARY:Trivia
DESCRIPTION:
URL:https://epictriviafl.com/event/trivia-busters/2026-04-23/
LOCATION:Busters Bistro\, 300 Sanford Ave\, Sanford\, FL\, 32771 USA
GEO:28.8098112;-81.2652009
X-APPLE-STRUCTURED-LOCATION;VALUE=URI;X-ADDRESS=Busters Bistro 300 Sanford Ave Sanford FL 32771 USA;X-APPLE-RADIUS=500;X-TITLE=300 Sanford Ave\, Sanford\, FL\, 32771 USA:geo:-81.2652009,28.8098112
END:VEVENT
BEGIN:VEVENT
DTSTART;TZID=America/New_York:20260430T190000
DTEND;TZID=America/New_York:20260430T190000
DTSTAMP:20260419T141551
CREATED:20260105T003147Z
LAST-MODIFIED:20260105T054205Z
UID:10011979-1777575600-1777575600@epictriviafl.com
SUMMARY:Trivia
DESCRIPTION:
URL:https://epictriviafl.com/event/trivia-busters/2026-04-30/
LOCATION:Busters Bistro\, 300 Sanford Ave\, Sanford\, FL\, 32771 USA
GEO:28.8098112;-81.2652009
X-APPLE-STRUCTURED-LOCATION;VALUE=URI;X-ADDRESS=Busters Bistro 300 Sanford Ave Sanford FL 32771 USA;X-APPLE-RADIUS=500;X-TITLE=300 Sanford Ave\, Sanford\, FL\, 32771 USA:geo:-81.2652009,28.8098112
END:VEVENT
BEGIN:VEVENT
DTSTART;TZID=America/New_York:20260507T190000
DTEND;TZID=America/New_York:20260507T190000
DTSTAMP:20260419T141551
CREATED:20260105T003147Z
LAST-MODIFIED:20260105T054205Z
UID:10011980-1778180400-1778180400@epictriviafl.com
SUMMARY:Trivia
DESCRIPTION:
URL:https://epictriviafl.com/event/trivia-busters/2026-05-07/
LOCATION:Busters Bistro\, 300 Sanford Ave\, Sanford\, FL\, 32771 USA
GEO:28.8098112;-81.2652009
X-APPLE-STRUCTURED-LOCATION;VALUE=URI;X-ADDRESS=Busters Bistro 300 Sanford Ave Sanford FL 32771 USA;X-APPLE-RADIUS=500;X-TITLE=300 Sanford Ave\, Sanford\, FL\, 32771 USA:geo:-81.2652009,28.8098112
END:VEVENT
BEGIN:VEVENT
DTSTART;TZID=America/New_York:20260514T190000
DTEND;TZID=America/New_York:20260514T190000
DTSTAMP:20260419T141551
CREATED:20260105T003147Z
LAST-MODIFIED:20260105T054205Z
UID:10011981-1778785200-1778785200@epictriviafl.com
SUMMARY:Trivia
DESCRIPTION:
URL:https://epictriviafl.com/event/trivia-busters/2026-05-14/
LOCATION:Busters Bistro\, 300 Sanford Ave\, Sanford\, FL\, 32771 USA
GEO:28.8098112;-81.2652009
X-APPLE-STRUCTURED-LOCATION;VALUE=URI;X-ADDRESS=Busters Bistro 300 Sanford Ave Sanford FL 32771 USA;X-APPLE-RADIUS=500;X-TITLE=300 Sanford Ave\, Sanford\, FL\, 32771 USA:geo:-81.2652009,28.8098112
END:VEVENT
BEGIN:VEVENT
DTSTART;TZID=America/New_York:20260521T190000
DTEND;TZID=America/New_York:20260521T190000
DTSTAMP:20260419T141551
CREATED:20260105T003147Z
LAST-MODIFIED:20260105T054205Z
UID:10011982-1779390000-1779390000@epictriviafl.com
SUMMARY:Trivia
DESCRIPTION:
URL:https://epictriviafl.com/event/trivia-busters/2026-05-21/
LOCATION:Busters Bistro\, 300 Sanford Ave\, Sanford\, FL\, 32771 USA
GEO:28.8098112;-81.2652009
X-APPLE-STRUCTURED-LOCATION;VALUE=URI;X-ADDRESS=Busters Bistro 300 Sanford Ave Sanford FL 32771 USA;X-APPLE-RADIUS=500;X-TITLE=300 Sanford Ave\, Sanford\, FL\, 32771 USA:geo:-81.2652009,28.8098112
END:VEVENT
BEGIN:VEVENT
DTSTART;TZID=America/New_York:20260528T190000
DTEND;TZID=America/New_York:20260528T190000
DTSTAMP:20260419T141551
CREATED:20260105T003147Z
LAST-MODIFIED:20260105T054205Z
UID:10011983-1779994800-1779994800@epictriviafl.com
SUMMARY:Trivia
DESCRIPTION:
URL:https://epictriviafl.com/event/trivia-busters/2026-05-28/
LOCATION:Busters Bistro\, 300 Sanford Ave\, Sanford\, FL\, 32771 USA
GEO:28.8098112;-81.2652009
X-APPLE-STRUCTURED-LOCATION;VALUE=URI;X-ADDRESS=Busters Bistro 300 Sanford Ave Sanford FL 32771 USA;X-APPLE-RADIUS=500;X-TITLE=300 Sanford Ave\, Sanford\, FL\, 32771 USA:geo:-81.2652009,28.8098112
END:VEVENT
BEGIN:VEVENT
DTSTART;TZID=America/New_York:20260604T190000
DTEND;TZID=America/New_York:20260604T190000
DTSTAMP:20260419T141551
CREATED:20260105T003147Z
LAST-MODIFIED:20260105T054205Z
UID:10011984-1780599600-1780599600@epictriviafl.com
SUMMARY:Trivia
DESCRIPTION:
URL:https://epictriviafl.com/event/trivia-busters/2026-06-04/
LOCATION:Busters Bistro\, 300 Sanford Ave\, Sanford\, FL\, 32771 USA
GEO:28.8098112;-81.2652009
X-APPLE-STRUCTURED-LOCATION;VALUE=URI;X-ADDRESS=Busters Bistro 300 Sanford Ave Sanford FL 32771 USA;X-APPLE-RADIUS=500;X-TITLE=300 Sanford Ave\, Sanford\, FL\, 32771 USA:geo:-81.2652009,28.8098112
END:VEVENT
BEGIN:VEVENT
DTSTART;TZID=America/New_York:20260611T190000
DTEND;TZID=America/New_York:20260611T190000
DTSTAMP:20260419T141551
CREATED:20260105T003147Z
LAST-MODIFIED:20260105T054205Z
UID:10011985-1781204400-1781204400@epictriviafl.com
SUMMARY:Trivia
DESCRIPTION:
URL:https://epictriviafl.com/event/trivia-busters/2026-06-11/
LOCATION:Busters Bistro\, 300 Sanford Ave\, Sanford\, FL\, 32771 USA
GEO:28.8098112;-81.2652009
X-APPLE-STRUCTURED-LOCATION;VALUE=URI;X-ADDRESS=Busters Bistro 300 Sanford Ave Sanford FL 32771 USA;X-APPLE-RADIUS=500;X-TITLE=300 Sanford Ave\, Sanford\, FL\, 32771 USA:geo:-81.2652009,28.8098112
END:VEVENT
BEGIN:VEVENT
DTSTART;TZID=America/New_York:20260618T190000
DTEND;TZID=America/New_York:20260618T190000
DTSTAMP:20260419T141551
CREATED:20260105T003147Z
LAST-MODIFIED:20260105T054205Z
UID:10011986-1781809200-1781809200@epictriviafl.com
SUMMARY:Trivia
DESCRIPTION:
URL:https://epictriviafl.com/event/trivia-busters/2026-06-18/
LOCATION:Busters Bistro\, 300 Sanford Ave\, Sanford\, FL\, 32771 USA
GEO:28.8098112;-81.2652009
X-APPLE-STRUCTURED-LOCATION;VALUE=URI;X-ADDRESS=Busters Bistro 300 Sanford Ave Sanford FL 32771 USA;X-APPLE-RADIUS=500;X-TITLE=300 Sanford Ave\, Sanford\, FL\, 32771 USA:geo:-81.2652009,28.8098112
END:VEVENT
BEGIN:VEVENT
DTSTART;TZID=America/New_York:20260625T190000
DTEND;TZID=America/New_York:20260625T190000
DTSTAMP:20260419T141551
CREATED:20260105T003147Z
LAST-MODIFIED:20260105T054205Z
UID:10011987-1782414000-1782414000@epictriviafl.com
SUMMARY:Trivia
DESCRIPTION:
URL:https://epictriviafl.com/event/trivia-busters/2026-06-25/
LOCATION:Busters Bistro\, 300 Sanford Ave\, Sanford\, FL\, 32771 USA
GEO:28.8098112;-81.2652009
X-APPLE-STRUCTURED-LOCATION;VALUE=URI;X-ADDRESS=Busters Bistro 300 Sanford Ave Sanford FL 32771 USA;X-APPLE-RADIUS=500;X-TITLE=300 Sanford Ave\, Sanford\, FL\, 32771 USA:geo:-81.2652009,28.8098112
END:VEVENT
BEGIN:VEVENT
DTSTART;TZID=America/New_York:20260702T190000
DTEND;TZID=America/New_York:20260702T190000
DTSTAMP:20260419T141551
CREATED:20260105T003147Z
LAST-MODIFIED:20260105T054205Z
UID:10011988-1783018800-1783018800@epictriviafl.com
SUMMARY:Trivia
DESCRIPTION:
URL:https://epictriviafl.com/event/trivia-busters/2026-07-02/
LOCATION:Busters Bistro\, 300 Sanford Ave\, Sanford\, FL\, 32771 USA
GEO:28.8098112;-81.2652009
X-APPLE-STRUCTURED-LOCATION;VALUE=URI;X-ADDRESS=Busters Bistro 300 Sanford Ave Sanford FL 32771 USA;X-APPLE-RADIUS=500;X-TITLE=300 Sanford Ave\, Sanford\, FL\, 32771 USA:geo:-81.2652009,28.8098112
END:VEVENT
BEGIN:VEVENT
DTSTART;TZID=America/New_York:20260709T190000
DTEND;TZID=America/New_York:20260709T190000
DTSTAMP:20260419T141551
CREATED:20260105T003147Z
LAST-MODIFIED:20260105T054205Z
UID:10011989-1783623600-1783623600@epictriviafl.com
SUMMARY:Trivia
DESCRIPTION:
URL:https://epictriviafl.com/event/trivia-busters/2026-07-09/
LOCATION:Busters Bistro\, 300 Sanford Ave\, Sanford\, FL\, 32771 USA
GEO:28.8098112;-81.2652009
X-APPLE-STRUCTURED-LOCATION;VALUE=URI;X-ADDRESS=Busters Bistro 300 Sanford Ave Sanford FL 32771 USA;X-APPLE-RADIUS=500;X-TITLE=300 Sanford Ave\, Sanford\, FL\, 32771 USA:geo:-81.2652009,28.8098112
END:VEVENT
BEGIN:VEVENT
DTSTART;TZID=America/New_York:20260716T190000
DTEND;TZID=America/New_York:20260716T190000
DTSTAMP:20260419T141551
CREATED:20260105T003147Z
LAST-MODIFIED:20260105T054205Z
UID:10011990-1784228400-1784228400@epictriviafl.com
SUMMARY:Trivia
DESCRIPTION:
URL:https://epictriviafl.com/event/trivia-busters/2026-07-16/
LOCATION:Busters Bistro\, 300 Sanford Ave\, Sanford\, FL\, 32771 USA
GEO:28.8098112;-81.2652009
X-APPLE-STRUCTURED-LOCATION;VALUE=URI;X-ADDRESS=Busters Bistro 300 Sanford Ave Sanford FL 32771 USA;X-APPLE-RADIUS=500;X-TITLE=300 Sanford Ave\, Sanford\, FL\, 32771 USA:geo:-81.2652009,28.8098112
END:VEVENT
BEGIN:VEVENT
DTSTART;TZID=America/New_York:20260723T190000
DTEND;TZID=America/New_York:20260723T190000
DTSTAMP:20260419T141551
CREATED:20260105T003147Z
LAST-MODIFIED:20260105T054205Z
UID:10011991-1784833200-1784833200@epictriviafl.com
SUMMARY:Trivia
DESCRIPTION:
URL:https://epictriviafl.com/event/trivia-busters/2026-07-23/
LOCATION:Busters Bistro\, 300 Sanford Ave\, Sanford\, FL\, 32771 USA
GEO:28.8098112;-81.2652009
X-APPLE-STRUCTURED-LOCATION;VALUE=URI;X-ADDRESS=Busters Bistro 300 Sanford Ave Sanford FL 32771 USA;X-APPLE-RADIUS=500;X-TITLE=300 Sanford Ave\, Sanford\, FL\, 32771 USA:geo:-81.2652009,28.8098112
END:VEVENT
BEGIN:VEVENT
DTSTART;TZID=America/New_York:20260730T190000
DTEND;TZID=America/New_York:20260730T190000
DTSTAMP:20260419T141551
CREATED:20260105T003147Z
LAST-MODIFIED:20260105T054205Z
UID:10011992-1785438000-1785438000@epictriviafl.com
SUMMARY:Trivia
DESCRIPTION:
URL:https://epictriviafl.com/event/trivia-busters/2026-07-30/
LOCATION:Busters Bistro\, 300 Sanford Ave\, Sanford\, FL\, 32771 USA
GEO:28.8098112;-81.2652009
X-APPLE-STRUCTURED-LOCATION;VALUE=URI;X-ADDRESS=Busters Bistro 300 Sanford Ave Sanford FL 32771 USA;X-APPLE-RADIUS=500;X-TITLE=300 Sanford Ave\, Sanford\, FL\, 32771 USA:geo:-81.2652009,28.8098112
END:VEVENT
BEGIN:VEVENT
DTSTART;TZID=America/New_York:20260806T190000
DTEND;TZID=America/New_York:20260806T190000
DTSTAMP:20260419T141551
CREATED:20260105T003147Z
LAST-MODIFIED:20260105T054205Z
UID:10011993-1786042800-1786042800@epictriviafl.com
SUMMARY:Trivia
DESCRIPTION:
URL:https://epictriviafl.com/event/trivia-busters/2026-08-06/
LOCATION:Busters Bistro\, 300 Sanford Ave\, Sanford\, FL\, 32771 USA
GEO:28.8098112;-81.2652009
X-APPLE-STRUCTURED-LOCATION;VALUE=URI;X-ADDRESS=Busters Bistro 300 Sanford Ave Sanford FL 32771 USA;X-APPLE-RADIUS=500;X-TITLE=300 Sanford Ave\, Sanford\, FL\, 32771 USA:geo:-81.2652009,28.8098112
END:VEVENT
BEGIN:VEVENT
DTSTART;TZID=America/New_York:20260813T190000
DTEND;TZID=America/New_York:20260813T190000
DTSTAMP:20260419T141551
CREATED:20260105T003147Z
LAST-MODIFIED:20260105T054205Z
UID:10011994-1786647600-1786647600@epictriviafl.com
SUMMARY:Trivia
DESCRIPTION:
URL:https://epictriviafl.com/event/trivia-busters/2026-08-13/
LOCATION:Busters Bistro\, 300 Sanford Ave\, Sanford\, FL\, 32771 USA
GEO:28.8098112;-81.2652009
X-APPLE-STRUCTURED-LOCATION;VALUE=URI;X-ADDRESS=Busters Bistro 300 Sanford Ave Sanford FL 32771 USA;X-APPLE-RADIUS=500;X-TITLE=300 Sanford Ave\, Sanford\, FL\, 32771 USA:geo:-81.2652009,28.8098112
END:VEVENT
BEGIN:VEVENT
DTSTART;TZID=America/New_York:20260820T190000
DTEND;TZID=America/New_York:20260820T190000
DTSTAMP:20260419T141551
CREATED:20260105T003147Z
LAST-MODIFIED:20260105T054205Z
UID:10011995-1787252400-1787252400@epictriviafl.com
SUMMARY:Trivia
DESCRIPTION:
URL:https://epictriviafl.com/event/trivia-busters/2026-08-20/
LOCATION:Busters Bistro\, 300 Sanford Ave\, Sanford\, FL\, 32771 USA
GEO:28.8098112;-81.2652009
X-APPLE-STRUCTURED-LOCATION;VALUE=URI;X-ADDRESS=Busters Bistro 300 Sanford Ave Sanford FL 32771 USA;X-APPLE-RADIUS=500;X-TITLE=300 Sanford Ave\, Sanford\, FL\, 32771 USA:geo:-81.2652009,28.8098112
END:VEVENT
BEGIN:VEVENT
DTSTART;TZID=America/New_York:20260827T190000
DTEND;TZID=America/New_York:20260827T190000
DTSTAMP:20260419T141551
CREATED:20260105T003147Z
LAST-MODIFIED:20260105T054205Z
UID:10011996-1787857200-1787857200@epictriviafl.com
SUMMARY:Trivia
DESCRIPTION:
URL:https://epictriviafl.com/event/trivia-busters/2026-08-27/
LOCATION:Busters Bistro\, 300 Sanford Ave\, Sanford\, FL\, 32771 USA
GEO:28.8098112;-81.2652009
X-APPLE-STRUCTURED-LOCATION;VALUE=URI;X-ADDRESS=Busters Bistro 300 Sanford Ave Sanford FL 32771 USA;X-APPLE-RADIUS=500;X-TITLE=300 Sanford Ave\, Sanford\, FL\, 32771 USA:geo:-81.2652009,28.8098112
END:VEVENT
BEGIN:VEVENT
DTSTART;TZID=America/New_York:20260903T190000
DTEND;TZID=America/New_York:20260903T190000
DTSTAMP:20260419T141551
CREATED:20260105T003147Z
LAST-MODIFIED:20260105T054205Z
UID:10011997-1788462000-1788462000@epictriviafl.com
SUMMARY:Trivia
DESCRIPTION:
URL:https://epictriviafl.com/event/trivia-busters/2026-09-03/
LOCATION:Busters Bistro\, 300 Sanford Ave\, Sanford\, FL\, 32771 USA
GEO:28.8098112;-81.2652009
X-APPLE-STRUCTURED-LOCATION;VALUE=URI;X-ADDRESS=Busters Bistro 300 Sanford Ave Sanford FL 32771 USA;X-APPLE-RADIUS=500;X-TITLE=300 Sanford Ave\, Sanford\, FL\, 32771 USA:geo:-81.2652009,28.8098112
END:VEVENT
BEGIN:VEVENT
DTSTART;TZID=America/New_York:20260910T190000
DTEND;TZID=America/New_York:20260910T190000
DTSTAMP:20260419T141551
CREATED:20260105T003147Z
LAST-MODIFIED:20260105T054205Z
UID:10011998-1789066800-1789066800@epictriviafl.com
SUMMARY:Trivia
DESCRIPTION:
URL:https://epictriviafl.com/event/trivia-busters/2026-09-10/
LOCATION:Busters Bistro\, 300 Sanford Ave\, Sanford\, FL\, 32771 USA
GEO:28.8098112;-81.2652009
X-APPLE-STRUCTURED-LOCATION;VALUE=URI;X-ADDRESS=Busters Bistro 300 Sanford Ave Sanford FL 32771 USA;X-APPLE-RADIUS=500;X-TITLE=300 Sanford Ave\, Sanford\, FL\, 32771 USA:geo:-81.2652009,28.8098112
END:VEVENT
BEGIN:VEVENT
DTSTART;TZID=America/New_York:20260917T190000
DTEND;TZID=America/New_York:20260917T190000
DTSTAMP:20260419T141551
CREATED:20260105T003147Z
LAST-MODIFIED:20260105T054205Z
UID:10011999-1789671600-1789671600@epictriviafl.com
SUMMARY:Trivia
DESCRIPTION:
URL:https://epictriviafl.com/event/trivia-busters/2026-09-17/
LOCATION:Busters Bistro\, 300 Sanford Ave\, Sanford\, FL\, 32771 USA
GEO:28.8098112;-81.2652009
X-APPLE-STRUCTURED-LOCATION;VALUE=URI;X-ADDRESS=Busters Bistro 300 Sanford Ave Sanford FL 32771 USA;X-APPLE-RADIUS=500;X-TITLE=300 Sanford Ave\, Sanford\, FL\, 32771 USA:geo:-81.2652009,28.8098112
END:VEVENT
BEGIN:VEVENT
DTSTART;TZID=America/New_York:20260924T190000
DTEND;TZID=America/New_York:20260924T190000
DTSTAMP:20260419T141551
CREATED:20260105T003147Z
LAST-MODIFIED:20260105T054205Z
UID:10012000-1790276400-1790276400@epictriviafl.com
SUMMARY:Trivia
DESCRIPTION:
URL:https://epictriviafl.com/event/trivia-busters/2026-09-24/
LOCATION:Busters Bistro\, 300 Sanford Ave\, Sanford\, FL\, 32771 USA
GEO:28.8098112;-81.2652009
X-APPLE-STRUCTURED-LOCATION;VALUE=URI;X-ADDRESS=Busters Bistro 300 Sanford Ave Sanford FL 32771 USA;X-APPLE-RADIUS=500;X-TITLE=300 Sanford Ave\, Sanford\, FL\, 32771 USA:geo:-81.2652009,28.8098112
END:VEVENT
BEGIN:VEVENT
DTSTART;TZID=America/New_York:20261001T190000
DTEND;TZID=America/New_York:20261001T190000
DTSTAMP:20260419T141551
CREATED:20260105T003147Z
LAST-MODIFIED:20260105T054205Z
UID:10012001-1790881200-1790881200@epictriviafl.com
SUMMARY:Trivia
DESCRIPTION:
URL:https://epictriviafl.com/event/trivia-busters/2026-10-01/
LOCATION:Busters Bistro\, 300 Sanford Ave\, Sanford\, FL\, 32771 USA
GEO:28.8098112;-81.2652009
X-APPLE-STRUCTURED-LOCATION;VALUE=URI;X-ADDRESS=Busters Bistro 300 Sanford Ave Sanford FL 32771 USA;X-APPLE-RADIUS=500;X-TITLE=300 Sanford Ave\, Sanford\, FL\, 32771 USA:geo:-81.2652009,28.8098112
END:VEVENT
BEGIN:VEVENT
DTSTART;TZID=America/New_York:20261008T190000
DTEND;TZID=America/New_York:20261008T190000
DTSTAMP:20260419T141551
CREATED:20260105T003147Z
LAST-MODIFIED:20260105T054205Z
UID:10012002-1791486000-1791486000@epictriviafl.com
SUMMARY:Trivia
DESCRIPTION:
URL:https://epictriviafl.com/event/trivia-busters/2026-10-08/
LOCATION:Busters Bistro\, 300 Sanford Ave\, Sanford\, FL\, 32771 USA
GEO:28.8098112;-81.2652009
X-APPLE-STRUCTURED-LOCATION;VALUE=URI;X-ADDRESS=Busters Bistro 300 Sanford Ave Sanford FL 32771 USA;X-APPLE-RADIUS=500;X-TITLE=300 Sanford Ave\, Sanford\, FL\, 32771 USA:geo:-81.2652009,28.8098112
END:VEVENT
BEGIN:VEVENT
DTSTART;TZID=America/New_York:20261015T190000
DTEND;TZID=America/New_York:20261015T190000
DTSTAMP:20260419T141551
CREATED:20260105T003147Z
LAST-MODIFIED:20260105T054205Z
UID:10012003-1792090800-1792090800@epictriviafl.com
SUMMARY:Trivia
DESCRIPTION:
URL:https://epictriviafl.com/event/trivia-busters/2026-10-15/
LOCATION:Busters Bistro\, 300 Sanford Ave\, Sanford\, FL\, 32771 USA
GEO:28.8098112;-81.2652009
X-APPLE-STRUCTURED-LOCATION;VALUE=URI;X-ADDRESS=Busters Bistro 300 Sanford Ave Sanford FL 32771 USA;X-APPLE-RADIUS=500;X-TITLE=300 Sanford Ave\, Sanford\, FL\, 32771 USA:geo:-81.2652009,28.8098112
END:VEVENT
BEGIN:VEVENT
DTSTART;TZID=America/New_York:20261022T190000
DTEND;TZID=America/New_York:20261022T190000
DTSTAMP:20260419T141551
CREATED:20260105T003147Z
LAST-MODIFIED:20260105T054205Z
UID:10012004-1792695600-1792695600@epictriviafl.com
SUMMARY:Trivia
DESCRIPTION:
URL:https://epictriviafl.com/event/trivia-busters/2026-10-22/
LOCATION:Busters Bistro\, 300 Sanford Ave\, Sanford\, FL\, 32771 USA
GEO:28.8098112;-81.2652009
X-APPLE-STRUCTURED-LOCATION;VALUE=URI;X-ADDRESS=Busters Bistro 300 Sanford Ave Sanford FL 32771 USA;X-APPLE-RADIUS=500;X-TITLE=300 Sanford Ave\, Sanford\, FL\, 32771 USA:geo:-81.2652009,28.8098112
END:VEVENT
BEGIN:VEVENT
DTSTART;TZID=America/New_York:20261029T190000
DTEND;TZID=America/New_York:20261029T190000
DTSTAMP:20260419T141551
CREATED:20260105T003147Z
LAST-MODIFIED:20260105T054205Z
UID:10012005-1793300400-1793300400@epictriviafl.com
SUMMARY:Trivia
DESCRIPTION:
URL:https://epictriviafl.com/event/trivia-busters/2026-10-29/
LOCATION:Busters Bistro\, 300 Sanford Ave\, Sanford\, FL\, 32771 USA
GEO:28.8098112;-81.2652009
X-APPLE-STRUCTURED-LOCATION;VALUE=URI;X-ADDRESS=Busters Bistro 300 Sanford Ave Sanford FL 32771 USA;X-APPLE-RADIUS=500;X-TITLE=300 Sanford Ave\, Sanford\, FL\, 32771 USA:geo:-81.2652009,28.8098112
END:VEVENT
BEGIN:VEVENT
DTSTART;TZID=America/New_York:20261105T190000
DTEND;TZID=America/New_York:20261105T190000
DTSTAMP:20260419T141551
CREATED:20260105T003147Z
LAST-MODIFIED:20260105T054205Z
UID:10012006-1793905200-1793905200@epictriviafl.com
SUMMARY:Trivia
DESCRIPTION:
URL:https://epictriviafl.com/event/trivia-busters/2026-11-05/
LOCATION:Busters Bistro\, 300 Sanford Ave\, Sanford\, FL\, 32771 USA
GEO:28.8098112;-81.2652009
X-APPLE-STRUCTURED-LOCATION;VALUE=URI;X-ADDRESS=Busters Bistro 300 Sanford Ave Sanford FL 32771 USA;X-APPLE-RADIUS=500;X-TITLE=300 Sanford Ave\, Sanford\, FL\, 32771 USA:geo:-81.2652009,28.8098112
END:VEVENT
BEGIN:VEVENT
DTSTART;TZID=America/New_York:20261112T190000
DTEND;TZID=America/New_York:20261112T190000
DTSTAMP:20260419T141551
CREATED:20260105T003147Z
LAST-MODIFIED:20260105T054205Z
UID:10012007-1794510000-1794510000@epictriviafl.com
SUMMARY:Trivia
DESCRIPTION:
URL:https://epictriviafl.com/event/trivia-busters/2026-11-12/
LOCATION:Busters Bistro\, 300 Sanford Ave\, Sanford\, FL\, 32771 USA
GEO:28.8098112;-81.2652009
X-APPLE-STRUCTURED-LOCATION;VALUE=URI;X-ADDRESS=Busters Bistro 300 Sanford Ave Sanford FL 32771 USA;X-APPLE-RADIUS=500;X-TITLE=300 Sanford Ave\, Sanford\, FL\, 32771 USA:geo:-81.2652009,28.8098112
END:VEVENT
END:VCALENDAR